BEGIN:VCALENDAR
VERSION:2.0
PRODID:-//Aspen Analytics - ECPv6.15.20//NONSGML v1.0//EN
CALSCALE:GREGORIAN
METHOD:PUBLISH
X-ORIGINAL-URL:https://www.aspenanalytics.io
X-WR-CALDESC:Events for Aspen Analytics
REFRESH-INTERVAL;VALUE=DURATION:PT1H
X-Robots-Tag:noindex
X-PUBLISHED-TTL:PT1H
BEGIN:VTIMEZONE
TZID:America/New_York
BEGIN:DAYLIGHT
TZOFFSETFROM:-0500
TZOFFSETTO:-0400
TZNAME:EDT
DTSTART:20250309T070000
END:DAYLIGHT
BEGIN:STANDARD
TZOFFSETFROM:-0400
TZOFFSETTO:-0500
TZNAME:EST
DTSTART:20251102T060000
END:STANDARD
BEGIN:DAYLIGHT
TZOFFSETFROM:-0500
TZOFFSETTO:-0400
TZNAME:EDT
DTSTART:20260308T070000
END:DAYLIGHT
BEGIN:STANDARD
TZOFFSETFROM:-0400
TZOFFSETTO:-0500
TZNAME:EST
DTSTART:20261101T060000
END:STANDARD
BEGIN:DAYLIGHT
TZOFFSETFROM:-0500
TZOFFSETTO:-0400
TZNAME:EDT
DTSTART:20270314T070000
END:DAYLIGHT
BEGIN:STANDARD
TZOFFSETFROM:-0400
TZOFFSETTO:-0500
TZNAME:EST
DTSTART:20271107T060000
END:STANDARD
END:VTIMEZONE
BEGIN:VEVENT
DTSTART;TZID=America/New_York:20260317T120000
DTEND;TZID=America/New_York:20260317T130000
DTSTAMP:20260425T070816
CREATED:20260301T205156Z
LAST-MODIFIED:20260302T145920Z
UID:27668-1773748800-1773752400@www.aspenanalytics.io
SUMMARY:Fake Profiles\, AI Threats\, and Remediation Tactics
DESCRIPTION:About This Session\nIdentify the different types of AI‑enabled threats affecting applicant pipelines (e.g.\, fake profiles\, AI‑generated résumés\, deepfake interviews\, identity obfuscation\, automated profile farms). Explain how these threats emerge and why hiring systems are becoming prime targets. Recognize the difference between candidate fraud\, system manipulation\, and adversarial attacks on screening tools. \nWho Should Attend Beyond Talent Acquisition\nLegal and Compliance Officers\nAI and Data Governance Leaders\nRisk and Audit Professionals\nTechnology Procurement and Vendor Managers
URL:https://www.aspenanalytics.io/event/march-17-2026/
LOCATION:Virtual Event
CATEGORIES:Events
ATTACH;FMTTYPE=image/png:https://www.aspenanalytics.io/wp-content/uploads/2026/02/TA-Today-March-17-2026-Featured-Graphic-e1772463347810.png
END:VEVENT
END:VCALENDAR